BEGIN:VCALENDAR
VERSION:2.0
PRODID:-//Ignacio Arakistain - ECPv6.15.16//NONSGML v1.0//EN
CALSCALE:GREGORIAN
METHOD:PUBLISH
X-WR-CALNAME:Ignacio Arakistain
X-ORIGINAL-URL:https://ignacioarakistain.eus
X-WR-CALDESC:Events for Ignacio Arakistain
REFRESH-INTERVAL;VALUE=DURATION:PT1H
X-Robots-Tag:noindex
X-PUBLISHED-TTL:PT1H
BEGIN:VTIMEZONE
TZID:Europe/Madrid
BEGIN:DAYLIGHT
TZOFFSETFROM:+0100
TZOFFSETTO:+0200
TZNAME:CEST
DTSTART:20230326T010000
END:DAYLIGHT
BEGIN:STANDARD
TZOFFSETFROM:+0200
TZOFFSETTO:+0100
TZNAME:CET
DTSTART:20231029T010000
END:STANDARD
BEGIN:DAYLIGHT
TZOFFSETFROM:+0100
TZOFFSETTO:+0200
TZNAME:CEST
DTSTART:20240331T010000
END:DAYLIGHT
BEGIN:STANDARD
TZOFFSETFROM:+0200
TZOFFSETTO:+0100
TZNAME:CET
DTSTART:20241027T010000
END:STANDARD
BEGIN:DAYLIGHT
TZOFFSETFROM:+0100
TZOFFSETTO:+0200
TZNAME:CEST
DTSTART:20250330T010000
END:DAYLIGHT
BEGIN:STANDARD
TZOFFSETFROM:+0200
TZOFFSETTO:+0100
TZNAME:CET
DTSTART:20251026T010000
END:STANDARD
END:VTIMEZONE
BEGIN:VEVENT
DTSTART;VALUE=DATE:20241117
DTEND;VALUE=DATE:20241118
DTSTAMP:20260419T214309
CREATED:20250618T082812Z
LAST-MODIFIED:20250618T082812Z
UID:10000273-1731801600-1731887999@ignacioarakistain.eus
SUMMARY:Toulousen (Frantzia)\, Basilique de la Daurade elizan organo kontzertua
DESCRIPTION:
URL:https://ignacioarakistain.eus/event/toulousen-frantzia-basilique-de-la-daurade-elizan-organo-kontzertua/
LOCATION:Toulouse
END:VEVENT
END:VCALENDAR