BEGIN:VCALENDAR
VERSION:2.0
PRODID:-//Ignacio Arakistain - ECPv6.15.16//NONSGML v1.0//EN
CALSCALE:GREGORIAN
METHOD:PUBLISH
X-WR-CALNAME:Ignacio Arakistain
X-ORIGINAL-URL:https://ignacioarakistain.eus
X-WR-CALDESC:Events for Ignacio Arakistain
REFRESH-INTERVAL;VALUE=DURATION:PT1H
X-Robots-Tag:noindex
X-PUBLISHED-TTL:PT1H
BEGIN:VTIMEZONE
TZID:Europe/Madrid
BEGIN:DAYLIGHT
TZOFFSETFROM:+0100
TZOFFSETTO:+0200
TZNAME:CEST
DTSTART:20230326T010000
END:DAYLIGHT
BEGIN:STANDARD
TZOFFSETFROM:+0200
TZOFFSETTO:+0100
TZNAME:CET
DTSTART:20231029T010000
END:STANDARD
BEGIN:DAYLIGHT
TZOFFSETFROM:+0100
TZOFFSETTO:+0200
TZNAME:CEST
DTSTART:20240331T010000
END:DAYLIGHT
BEGIN:STANDARD
TZOFFSETFROM:+0200
TZOFFSETTO:+0100
TZNAME:CET
DTSTART:20241027T010000
END:STANDARD
BEGIN:DAYLIGHT
TZOFFSETFROM:+0100
TZOFFSETTO:+0200
TZNAME:CEST
DTSTART:20250330T010000
END:DAYLIGHT
BEGIN:STANDARD
TZOFFSETFROM:+0200
TZOFFSETTO:+0100
TZNAME:CET
DTSTART:20251026T010000
END:STANDARD
END:VTIMEZONE
BEGIN:VEVENT
DTSTART;VALUE=DATE:20241206
DTEND;VALUE=DATE:20241207
DTSTAMP:20260419T212006
CREATED:20250618T082900Z
LAST-MODIFIED:20250618T082900Z
UID:10000275-1733443200-1733529599@ignacioarakistain.eus
SUMMARY:Claudia Alduncin Klarinete-jotzailearekin kontzertua\, Bilboko Arte Ederren Museoan
DESCRIPTION:
URL:https://ignacioarakistain.eus/event/claudia-alduncin-klarinete-jotzailearekin-kontzertua-bilboko-arte-ederren-museoan/
LOCATION:Bilbo
END:VEVENT
END:VCALENDAR