BEGIN:VCALENDAR
VERSION:2.0
PRODID:-//Ignacio Arakistain - ECPv6.15.16//NONSGML v1.0//EN
CALSCALE:GREGORIAN
METHOD:PUBLISH
X-WR-CALNAME:Ignacio Arakistain
X-ORIGINAL-URL:https://ignacioarakistain.eus
X-WR-CALDESC:Events for Ignacio Arakistain
REFRESH-INTERVAL;VALUE=DURATION:PT1H
X-Robots-Tag:noindex
X-PUBLISHED-TTL:PT1H
BEGIN:VTIMEZONE
TZID:Europe/Madrid
BEGIN:DAYLIGHT
TZOFFSETFROM:+0100
TZOFFSETTO:+0200
TZNAME:CEST
DTSTART:20240331T010000
END:DAYLIGHT
BEGIN:STANDARD
TZOFFSETFROM:+0200
TZOFFSETTO:+0100
TZNAME:CET
DTSTART:20241027T010000
END:STANDARD
BEGIN:DAYLIGHT
TZOFFSETFROM:+0100
TZOFFSETTO:+0200
TZNAME:CEST
DTSTART:20250330T010000
END:DAYLIGHT
BEGIN:STANDARD
TZOFFSETFROM:+0200
TZOFFSETTO:+0100
TZNAME:CET
DTSTART:20251026T010000
END:STANDARD
BEGIN:DAYLIGHT
TZOFFSETFROM:+0100
TZOFFSETTO:+0200
TZNAME:CEST
DTSTART:20260329T010000
END:DAYLIGHT
BEGIN:STANDARD
TZOFFSETFROM:+0200
TZOFFSETTO:+0100
TZNAME:CET
DTSTART:20261025T010000
END:STANDARD
END:VTIMEZONE
BEGIN:VEVENT
DTSTART;VALUE=DATE:20250329
DTEND;VALUE=DATE:20250330
DTSTAMP:20260419T215437
CREATED:20250618T083042Z
LAST-MODIFIED:20250618T083042Z
UID:10000279-1743206400-1743292799@ignacioarakistain.eus
SUMMARY:Intsausti Jauregian\, Azkoitian\, Euskal Herriko Adiskideen Elkartearen baitan kontzertua Aitor Garitano tenorrarekin
DESCRIPTION:
URL:https://ignacioarakistain.eus/event/intsausti-jauregian-azkoitian-euskal-herriko-adiskideen-elkartearen-baitan-kontzertua-aitor-garitano-tenorrarekin/
LOCATION:Azkoitia
END:VEVENT
END:VCALENDAR